BEGIN:VCALENDAR
VERSION:2.0
PRODID:-//Fundación Empresa y Sociedad - ECPv6.15.20//NONSGML v1.0//EN
CALSCALE:GREGORIAN
METHOD:PUBLISH
X-ORIGINAL-URL:https://www.empresaysociedad.org
X-WR-CALDESC:Eventos para Fundación Empresa y Sociedad
REFRESH-INTERVAL;VALUE=DURATION:PT1H
X-Robots-Tag:noindex
X-PUBLISHED-TTL:PT1H
BEGIN:VTIMEZONE
TZID:Europe/Madrid
BEGIN:DAYLIGHT
TZOFFSETFROM:+0100
TZOFFSETTO:+0200
TZNAME:CEST
DTSTART:20240331T010000
END:DAYLIGHT
BEGIN:STANDARD
TZOFFSETFROM:+0200
TZOFFSETTO:+0100
TZNAME:CET
DTSTART:20241027T010000
END:STANDARD
BEGIN:DAYLIGHT
TZOFFSETFROM:+0100
TZOFFSETTO:+0200
TZNAME:CEST
DTSTART:20250330T010000
END:DAYLIGHT
BEGIN:STANDARD
TZOFFSETFROM:+0200
TZOFFSETTO:+0100
TZNAME:CET
DTSTART:20251026T010000
END:STANDARD
BEGIN:DAYLIGHT
TZOFFSETFROM:+0100
TZOFFSETTO:+0200
TZNAME:CEST
DTSTART:20260329T010000
END:DAYLIGHT
BEGIN:STANDARD
TZOFFSETFROM:+0200
TZOFFSETTO:+0100
TZNAME:CET
DTSTART:20261025T010000
END:STANDARD
END:VTIMEZONE
BEGIN:VEVENT
DTSTART;TZID=Europe/Madrid:20250219T083000
DTEND;TZID=Europe/Madrid:20250219T160000
DTSTAMP:20260424T044707
CREATED:20241114T191433Z
LAST-MODIFIED:20250213T220459Z
UID:24461-1739953800-1739980800@www.empresaysociedad.org
SUMMARY:Scaleups B2B Day 2025
DESCRIPTION:  \nSCALEUPS B2B DAY 2025\nScaleups B2B Day será una jornada dedicada a compartir CASOS cliente+proveedor de soluciones digitales disruptivas e inspiradoras\, procedentes de scaleupsB2B e implantadas en empresas\, en torno a un networking especial. \nEs una iniciativa de la Fundación Empresa y Sociedad que convoca a empresas curiosas y proactivas. Desde miembros del Consejo de Administración a la Dirección General\, o directivos de Innovación\, Estrategia\, Tecnología\, Compras\, Calidad\, Desarrollo de Negocio\, Marketing y Ventas\, Operaciones\, Recursos Humanos\, Sostenibilidad o Impacto. \nSe celebrará el miércoles 19 de febrero en la sede de Microsoft España en Madrid. \nCuentan con Ibercaja como Socio Estratégico. \nAgenda del ScaleupsB2Bday 2025\nEn torno a presentaciones rápidas de los 17 casos de empresa+scaleup finalistas de los PREMIOSscaleupsB2B 2025 intervendrán: \nBienvenida \n\nJosé María Irisarri\, Presidente de la Fundación Empresa y Sociedad\nAntonio Budia\, Director de Partners de Microsoft España\nToño Ruiz\, Jefe de Estrategia Comercial de Banca de Empresas de Ibercaja\n\nLleva tu solución al siguiente nivel con la IA \n\nVerónica Ayora\, Account Tech Strategist de Microsoft España\n\nModelos de implantación de soluciones digitales en empresas \n\nAlfonso Sardón\, Transformación Digital e Innovación Abierta de Ormazábal\nJosé Antonio Valgañón\, VP Procurement (CPO) de Moeve \nJavier Yáñez\, Socio de Auren \n\n¿Cómo impulsar el emprendimiento más allá de la inversión? \n\nAna Segurado\, Managing Partner en Alantra\nEduardo Díez-Hochleitner\, Presidente de Samaipata\nIgnacio Mataix\, Presidente de Serveo\n\nCómo transformar conexiones en oportunidades para tu empresa \n\nPedro Jareño\, Enterprise Account Director\, LinkedIn Talent Solutions\n\nDe emprendedores a empresarios \n\nCarlos Moro\, Presidente de Bodegas Familiares Matarromera\nAlfonso Jiménez R-Vila\, Presidente de Cascajares\n\nEsta es la agenda completa \n  \nActividades\nSCALEUPS B2B DAY combinará varias actividades\, todas ellas en clave de inspiración y humor. \nCASOS de soluciones digitales disruptivas\nEn el auditorio\, se concentrarán las presentaciones en torno a CASOS de éxito en la colaboración cliente+proveedor mediante soluciones digitales disruptivas procedentes de scaleups para cinco áreas corporativas de empresas de referencia: \n\nDesarrollo de Negocio\, Marketing y Ventas.\nOperaciones.\nRecursos Humanos.\nSostenibilidad e impacto social y medioambiental.\n\nNetworking especial\nSimultáneamente\, habrá espacios especiales para networking en torno al auditorio. \nPremios SCALEUPS B2B 2025\nPor último\, incluirá la entrega de los Premios SCALEUPS B2B a los mejores CASOS en sus cuatro modalidades: \n\nDesarrollo de Negocio\, Marketing y Ventas.\nOperaciones.\nRecursos Humanos.\nSostenibilidad e impacto social y ambiental.\n\nLos Premios SCALEUPS B2B celebran este año su decimoprimera edición. \n  \nMás información\nPuedes ampliar información aquí \n  \nÚnete\, no te lo pierdas\nContamos contigo y con el equipo de tu empresa. No vengas solo ni sólo con los de tu área\, que hay para todos. \n¡Únete y comparte esta información! Entre todos haremos un día inolvidable. \nPorque «resolver necesidades con soluciones digitales es algo tan serio que mejor te lo contamos con humor» (Dani Delacámara) \nSOLICITO PLAZA PARA EL SCALEUPS B2B DAY\n  \nMapa y aparcamiento\nMapa \n \nAparcamiento \n\nZoco: C. Barlovento\, 30\, 28223 Pozuelo de Alarcón\, Madrid\, España\nHípica: Pº Club Deportivo\, 4\, 28223 Pozuelo de Alarcón\, Madrid\, España\n\n \n  \nSobre Empresa y Sociedad\nUnimos a empresarios\, directivos y más de 1.500 empresas jóvenes con soluciones digitales disruptivas para responder a necesidades en áreas de Marketing y Ventas\, Operaciones\, Personas\, Sostenibilidad… a través de la relación cliente-proveedor entre empresas y soluciones seleccionadas \n\nConoce el Ecosistema B2B\nConoce el MARKETPLACE B2B\nConoce otros eventos y convocatorias del ecosistema B2B de Empresa y Sociedad\n\n  \n¿Quieres estar al día?\nConoce lo último en actividad y tendencias sobre\nEcosistema B2B\, soluciones digitales disruptivas / Filantropía internacional / Longevidad\n>>>  SUSCRÍBETE  <<<
URL:https://www.empresaysociedad.org/agenda/scaleups-b2b-day-2025
LOCATION:Microsoft Ibérica\, Paseo Club Deportivo\, Parque Empresarial La Finca 1\, Edificio 1\, Pozuelo de Alarcón (Madrid)\, Madrid\, 28223\, Spain
CATEGORIES:b2b
ATTACH;FMTTYPE=image/png:https://www.empresaysociedad.org/wp-content/uploads/2024/11/241115-Cartel-Scaleups-B2B-Day.png
END:VEVENT
BEGIN:VEVENT
DTSTART;TZID=Europe/Madrid:20250227T180000
DTEND;TZID=Europe/Madrid:20250227T200000
DTSTAMP:20260424T044707
CREATED:20250226T114538Z
LAST-MODIFIED:20250226T114833Z
UID:25140-1740679200-1740686400@www.empresaysociedad.org
SUMMARY:El akelarre de LinkedIn
DESCRIPTION:El akelarre de LinkedIn\n¿Qué red nos gusta?\nLinkedIn. \n¿Para qué estamos en LinkedIn?\n\nPara hacer networking.\nPara encontrar clientes.\nPara crear marca personal.\nPara encontrar curro.\nPara ligar.\nPara llevar mi negocio a las 7 cifras.\n\nLos dos últimos al pasillo por t*ntos. \nVen a conocernos\nEl resto podéis venir con Mariam Veiga\, con Marta Calvo y con Raúl Montalvo a conocer El akelarre de LinkedIn \nPara qué\nEl evento que hemos creado para hacer networking y ponernos cara. \nPara enseñaros \n\nCómo encontrar trabajo.\nCómo crear una marca personal.\nCómo vender usando esta red. El famoso social selling.\n\n¿Nos vemos?\nEl jueves 27 de febrero a las 18:00 nos veremos las caras. \nSi ya estás registrad@ recibirás un email muy pronto. \nSi no lo estás ya estás tardando: elakelarre.com \nGanas no\, lo siguiente. \n>> Empieza ya a formar parte <<\n  \nSobre Empresa y Sociedad\nUnimos a empresarios\, directivos y 1.700 empresas jóvenes con soluciones digitales disruptivas para responder a necesidades en áreas de Marketing y Ventas\, Operaciones\, Personas\, Sostenibilidad… a través de la relación cliente-proveedor entre empresas y soluciones seleccionadas \n\nConoce el Ecosistema B2B\nConoce el MARKETPLACE B2B\nConoce otros eventos y convocatorias del ecosistema B2B de Empresa y Sociedad
URL:https://www.empresaysociedad.org/agenda/akelarre-linkedin
LOCATION:Value Space\, Paseo de la Castellana\, 53\, 2ª planta\, Madrid\, 28046\, Spain
CATEGORIES:b2b
ATTACH;FMTTYPE=image/jpeg:https://www.empresaysociedad.org/wp-content/uploads/2025/02/250226-Akelarre.jpg
END:VEVENT
END:VCALENDAR