BEGIN:VCALENDAR
VERSION:2.0
PRODID:-//Fundación Empresa y Sociedad - ECPv6.15.20//NONSGML v1.0//EN
CALSCALE:GREGORIAN
METHOD:PUBLISH
X-WR-CALNAME:Fundación Empresa y Sociedad
X-ORIGINAL-URL:https://www.empresaysociedad.org
X-WR-CALDESC:Eventos para Fundación Empresa y Sociedad
REFRESH-INTERVAL;VALUE=DURATION:PT1H
X-Robots-Tag:noindex
X-PUBLISHED-TTL:PT1H
BEGIN:VTIMEZONE
TZID:Europe/Madrid
BEGIN:DAYLIGHT
TZOFFSETFROM:+0100
TZOFFSETTO:+0200
TZNAME:CEST
DTSTART:20240331T010000
END:DAYLIGHT
BEGIN:STANDARD
TZOFFSETFROM:+0200
TZOFFSETTO:+0100
TZNAME:CET
DTSTART:20241027T010000
END:STANDARD
BEGIN:DAYLIGHT
TZOFFSETFROM:+0100
TZOFFSETTO:+0200
TZNAME:CEST
DTSTART:20250330T010000
END:DAYLIGHT
BEGIN:STANDARD
TZOFFSETFROM:+0200
TZOFFSETTO:+0100
TZNAME:CET
DTSTART:20251026T010000
END:STANDARD
BEGIN:DAYLIGHT
TZOFFSETFROM:+0100
TZOFFSETTO:+0200
TZNAME:CEST
DTSTART:20260329T010000
END:DAYLIGHT
BEGIN:STANDARD
TZOFFSETFROM:+0200
TZOFFSETTO:+0100
TZNAME:CET
DTSTART:20261025T010000
END:STANDARD
END:VTIMEZONE
BEGIN:VEVENT
DTSTART;TZID=Europe/Madrid:20250313T083000
DTEND;TZID=Europe/Madrid:20250313T143000
DTSTAMP:20260424T032709
CREATED:20250311T112415Z
LAST-MODIFIED:20250311T112649Z
UID:25158-1741854600-1741876200@www.empresaysociedad.org
SUMMARY:Liderar la sosteniblidad: aprendizajes y retos
DESCRIPTION:Liderar la sostenibilidad: 20 años de compromiso\nLa Jornada Corresponsables 2025 en Madrid marcará un hito en la evolución de la comunicación responsable y la sostenibilidad empresarial en torno a la idea de liderar la sostenibilidad. Esta edición es especial porque se celebran 20 años de Corresponsables\, consolidándose como el evento de referencia para líderes que buscan integrar la sostenibilidad en sus estrategias de negocio. \nEn un mundo donde la transparencia y la gestión ética son claves para la reputación corporativa\, este evento reunirá a los actores más influyentes del sector para analizar los avances\, los retos pendientes y las oportunidades de futuro. \nExpertos y líderes que marcan la diferencia\nEl evento contará con la participación de más de 30 ponentes\, entre ellos altos directivos\, responsables de RSC\, expertos en sostenibilidad y representantes de administraciones públicas. Destacan figuras de empresas líderes y entidades reconocidas por su compromiso con la responsabilidad social corporativa y los Objetivos de Desarrollo Sostenible (ODS). \nLas sesiones ofrecerán casos de éxito\, debates sobre tendencias y oportunidades en gobernanza ESG\, impacto social y sostenibilidad ambiental\, así como claves para una comunicación responsable. Será una oportunidad única para conocer de primera mano cómo las empresas más avanzadas están integrando estos valores en su modelo de negocio. \nUn evento imprescindible para directivos comprometidos\nLa Jornada Corresponsables 2025 está dirigida a CEOs\, directivos de RSC\, responsables de sostenibilidad y comunicación\, inversores y profesionales interesados en la gestión ética y la transformación empresarial. Si buscas inspiración\, tendencias y contactos estratégicos\, este evento es para ti. \nEl encuentro no solo proporcionará conocimientos clave\, sino que también permitirá networking con líderes que comparten la visión de un futuro más responsable y sostenible. \nFecha\, lugar y detalles de inscripción\n📅 Cuándo: 13 de marzo de 2025 (8:30 a 14:30)📍 Dónde: IESE\, Camino del Cerro del Aguila 3\, Madrid💻 Formato: Presencial \nInscríbete y lidera el cambio\nNo te quedes fuera de esta cita clave. La sostenibilidad y la responsabilidad corporativa ya no son opcionales\, sino factores decisivos para la competitividad empresarial. Reserva tu plaza ahora y prepárate para ser parte de la transformación. \n👉 Inscríbete aquí\n  \n  \nSobre Empresa y Sociedad\nUnimos a empresarios\, directivos y 1.700 empresas jóvenes con soluciones digitales disruptivas para responder a necesidades en áreas de Marketing y Ventas\, Operaciones\, Personas\, Sostenibilidad… a través de la relación cliente-proveedor entre empresas y soluciones seleccionadas \n\nConoce el Ecosistema B2B y las áreas de longevidad y filantropía internacional de la Fundación\nConoce el MARKETPLACE B2B\, emn el que verás soluciones y casos sobre Sostenibilidad\nConoce otros eventos y convocatorias del ecosistema B2B de Empresa y Sociedad
URL:https://www.empresaysociedad.org/agenda/liderar-la-sostenibilidad
LOCATION:IESE Business School\, Camino Cerro del Aguila 3\, Madrid\, 28023
CATEGORIES:b2b
ATTACH;FMTTYPE=image/jpeg:https://www.empresaysociedad.org/wp-content/uploads/2025/03/PHOTO-2025-03-11-10-44-12.jpg
END:VEVENT
BEGIN:VEVENT
DTSTART;TZID=Europe/Madrid:20250313T100000
DTEND;TZID=Europe/Madrid:20250313T110000
DTSTAMP:20260424T032709
CREATED:20250226T075846Z
LAST-MODIFIED:20250226T115207Z
UID:25133-1741860000-1741863600@www.empresaysociedad.org
SUMMARY:Scale your business in the UK
DESCRIPTION:Scale your business in the UK\nScale your Business un the UK is a webinar designed to provide European businesses with insights into the factors that make the UK Europe’s most important investment destination for CEOs (PWC\, 2025) and the premier destination in Europe for growing and innovating tech businesses. Attendees will learn about the UK’s dynamic business-friendly £1tn tech investment ecosystem\, growth opportunities\, and the latest opportunities under the UK’s forthcoming Industrial Strategy. \n  \nKey Takeaways\n\nGain insights into funding pathways and regulatory guidance.\nAccess attractive UK Government incentives for innovative businesses.\nLearn practical steps for setting up in the UK.\n\n  \nAgenda\n\n10:00-10:05: Introduction from the UK Government’s Head of Investment in Europe\, Christina Liaos\n10:05-10:45: Panel Session: ‘Setting Up in the UK’\, moderated by Global Entrepreneur Programme (GEP) Dealmaker\, Alpesh Patel\, featuring speakers from Blue Lake VC\, EBS – European Business Solutions\, London Stock Exchange\, and a GEP Startup (TBC)\, followed by a 5-minute Q&A\n10:45-10:55: Overview of the UK business environment for Europe-based startups and scaleups by the UK Government’s Investment Environment (InvEnt) Team\n10:55-11:00: Introduction to the Expand Your Business Portal\n\nThis webinar will provide the tools to take the next step in growing their business globally. \n  \nSee more info and click to apply now!\n  \nAbout Empresa y Sociedad\nFundación Empresa y Sociedad is a dynamic and collaborative B2B ecosystem that brings together business owners and executives and more than 1.500 young companies with disruptive digital solutions\, designed to address and overcome the corporate challenges of the future through the client-supplier relationship between companies and selected digital solutions. \nIt works in collaboration with scaleups\, companies and benchmark organisations in the world of digital innovation. \n\nWhat does Empresa y Sociedad share with scaleups and companies?\nSee other events and calls from Empresa y Sociedad´s Ecosystem\n\n\n  \nWant to be updated?\nFind out the latest activity and trends on\nB2B Ecosystem\, disruptive digital solutions / International Philanthropy / Longevity\n>>>  SUBSCRIBE  <<<
URL:https://www.empresaysociedad.org/agenda/scale-business-uk
LOCATION:Value Space\, Paseo de la Castellana\, 53\, 2ª planta\, Madrid\, 28046\, Spain
CATEGORIES:b2b
ATTACH;FMTTYPE=image/png:https://www.empresaysociedad.org/wp-content/uploads/2025/02/250313-Scale-in-UK.png
END:VEVENT
BEGIN:VEVENT
DTSTART;TZID=Europe/Madrid:20250326T113000
DTEND;TZID=Europe/Madrid:20250326T123000
DTSTAMP:20260424T032709
CREATED:20250318T074823Z
LAST-MODIFIED:20250324T071241Z
UID:26633-1742988600-1742992200@www.empresaysociedad.org
SUMMARY:Innovación territorial: impulso a ecosistemas de emprendimiento local con talento joven
DESCRIPTION:Innovación Territorial: impulso al emprendimiento con empresas locales y talento joven universitario\nEn un mundo donde la innovación territorial es clave para el desarrollo local\, conectar talento joven con ecosistemas de emprendimiento es una prioridad. \nTe invitamos a un webinar exclusivo de U4IMPACT\, en colaboración con la Xunta de Galicia y la Fundación Empresa y Sociedad\, donde exploraremos estrategias efectivas para fortalecer el tejido empresarial a través de jóvenes con potencial innovación. \n  \nContenidos\nContaremos con el caso de éxito de la Xunta de Galicia\, con su programa de apoyo a emprendedores con talento joven. \nAbordaremos otros temas como: \n\nDetección del potencial del talento joven como motor de innovación para las Administraciones locales.\nSoluciones tecnológicas de colaboración entre Startups\, Empresas Locales\, Fundaciones y Administraciones Públicas.\nMejorar la visibilidad y dar valor a proyectos de impacto que lo necesitan.\n\nIntervendrán: \n\nMarta Mariño\, Directora Xeral de Traballo Autónomo e Economía Social de Xunta de Galicia.\nManuel Docavo\, Cofundador y CEO de U4IMPACT.\nAlejo Santolino Simón\, fundador y CEO de Senior Lingua\nPaco Abad\, Cofundador y CEO de la Fundación Empresa y Sociedad.\n\n  \n¿Quién debería asistir?\n\nRepresentantes de Administraciones Públicas – Encargados de políticas de desarrollo territorial y fomento del emprendimiento.\nGestores de Ecosistemas de Emprendimiento – Incubadoras\, aceleradoras y hubs de innovación que articulen estos espacios.\nEmpresarios y Directivos de PYMEs – Buscando innovación y colaboración con universidades.\nEmprendedores y Startups – Interesados ​​en conectar con talento joven para impulsar sus proyectos.\nResponsables de Innovación y Transformación Digital – En empresas que quieran integrar talento joven en sus procesos.\nAcadémicos y Representantes Universitarios – Interesados ​​en potenciar la empleabilidad de sus estudiantes y fomentar la colaboración con el sector empresarial.\n\n  \nLogística\nFecha y hora: Miércoles 26 de marzo (11:30 a 12:30\, online) \n  \nÚnete\nNo te pierdas esta oportunidad de conectar desarrollo local y emprendimiento con talento joven universitario para impulsar la innovación territorial. \n¡Inscríbete ahora y sé parte de esta experiencia única… \n>>>  …en este enlace ! <<<\n\n  \nSobre Empresa y Sociedad\nUnimos a empresarios\, directivos y más de 1.500 empresas jóvenes con soluciones digitales disruptivas para responder a necesidades en áreas de Marketing y Ventas\, Operaciones\, Personas\, Sostenibilidad… a través de la relación cliente-proveedor entre empresas y soluciones seleccionadas \n\nConoce el Ecosistema B2B\nConoce el MARKETPLACE B2B\nConoce otros eventos y convocatorias del ecosistema B2B de Empresa y Sociedad\n\nU4IMPACT es una Scaleup Asociada a la Fundación Empresa y Sociedad y Manuel Docavo (su Cofundador y CEO) forma parte de su Consejo Asesor. \nEstos son los últimos casos de U4IMPACT publicados\, finalistas de los PREMIOSscaleupsB2B: \n\nCaso con Lefebvre\nCaso con Danone\n\n  \n¿Quieres saber más sobre U4IMPACT? Contacta aquí \n  \nQuieres estar al día\nConoce lo último en actividad y tendencias sobre\nEcosistema B2B\, soluciones digitales disruptivas / Filantropía internacional / Longevidad\n>>>  SUSCRÍBETE  <<<
URL:https://www.empresaysociedad.org/agenda/innovacion-territorial
LOCATION:Value Space\, Paseo de la Castellana\, 53\, 2ª planta\, Madrid\, 28046\, Spain
CATEGORIES:b2b
ATTACH;FMTTYPE=image/png:https://www.empresaysociedad.org/wp-content/uploads/2025/03/Webinar-1920-x-1080-px-3.png
END:VEVENT
END:VCALENDAR