BEGIN:VCALENDAR
VERSION:2.0
PRODID:-//Fundación Empresa y Sociedad - ECPv6.15.20//NONSGML v1.0//EN
CALSCALE:GREGORIAN
METHOD:PUBLISH
X-ORIGINAL-URL:https://www.empresaysociedad.org
X-WR-CALDESC:Eventos para Fundación Empresa y Sociedad
REFRESH-INTERVAL;VALUE=DURATION:PT1H
X-Robots-Tag:noindex
X-PUBLISHED-TTL:PT1H
BEGIN:VTIMEZONE
TZID:Europe/Madrid
BEGIN:DAYLIGHT
TZOFFSETFROM:+0100
TZOFFSETTO:+0200
TZNAME:CEST
DTSTART:20240331T010000
END:DAYLIGHT
BEGIN:STANDARD
TZOFFSETFROM:+0200
TZOFFSETTO:+0100
TZNAME:CET
DTSTART:20241027T010000
END:STANDARD
BEGIN:DAYLIGHT
TZOFFSETFROM:+0100
TZOFFSETTO:+0200
TZNAME:CEST
DTSTART:20250330T010000
END:DAYLIGHT
BEGIN:STANDARD
TZOFFSETFROM:+0200
TZOFFSETTO:+0100
TZNAME:CET
DTSTART:20251026T010000
END:STANDARD
BEGIN:DAYLIGHT
TZOFFSETFROM:+0100
TZOFFSETTO:+0200
TZNAME:CEST
DTSTART:20260329T010000
END:DAYLIGHT
BEGIN:STANDARD
TZOFFSETFROM:+0200
TZOFFSETTO:+0100
TZNAME:CET
DTSTART:20261025T010000
END:STANDARD
END:VTIMEZONE
BEGIN:VEVENT
DTSTART;TZID=Europe/Madrid:20250613T091500
DTEND;TZID=Europe/Madrid:20250613T190000
DTSTAMP:20260423T224333
CREATED:20250514T182932Z
LAST-MODIFIED:20250514T183923Z
UID:28459-1749806100-1749841200@www.empresaysociedad.org
SUMMARY:España XR: Tecnologías inmersivas\, políticas públicas y emprendimiento
DESCRIPTION:  \nTecnologías inmersivas y políticas públicas: Contexto\nEl avance imparable de las tecnologías inmersivas\, acompañado por políticas públicas\, está redefiniendo los límites entre lo físico y lo virtual\, transformando sectores clave como la industria\, la educación o la administración. \nEn este contexto\, el Congreso España XR se convierte en una cita ineludible para comprender el impacto actual y futuro de la realidad extendida (XR) en España. Organizado por INMERSIVA XR junto a la Cátedra MetaversoUA\, el evento marca un punto de inflexión en el diálogo entre tecnología\, empresa y política pública. \n  \nContenido y perfil de los speakers\nDurante la jornada se presentarán los resultados del informe elaborado por INMERSIVA XR y la Cátedra MetaversoUA\, fruto de una consulta pública sobre el estado de la XR en España. Un documento clave para orientar estrategias tanto en el ámbito empresarial como institucional. \nEl programa incluye ponencias de alto nivel como la de Moisés Barrio Andrés (Consejo de Estado)\, experto en derechos digitales\, y Pedro Mujica (WECOLAB Network)\, reconocido por su visión del metaverso y la IA. Las sesiones abordarán tres ejes fundamentales: \n\nAplicaciones de la XR en políticas públicas\nUso industrial de las tecnologías inmersivas\nRetos y oportunidades de los entornos virtuales\n\n  \nQuién debe asistir\nEste evento está dirigido a altos directivos\, responsables de innovación y transformación digital\, representantes institucionales\, startups tecnológicas y profesionales interesados en el potencial estratégico de la XR. Una oportunidad única para acceder a conocimiento de vanguardia\, establecer alianzas y anticipar tendencias clave en el desarrollo digital del país. \n  \nDía\, hora y sitio de la convocatoria\nViernes\, 13 de junio\nSalón de Grados “Ramón Martín Mateo”\nFacultad de Derecho\, Universidad de Alicante \n  \nInscripción\nAsegura tu plaza en este congreso imprescindible sobre realidad extendida\, metaverso y políticas digitales. La entrada es gratuita pero el aforo es limitado. \n👉 Inscríbete aquí\n  \nSobre Empresa y Sociedad\n \n  \nEmpresa y Sociedad impulsa el cambio social desde la empresa\, con innovación y visión de futuro. Acelera soluciones con impacto real para una sociedad que evoluciona. \nTrabaja tres áreas que conviven unidas: \n\nEcosistema B2B. Descubre soluciones digitales innovadoras para que tu empresa avance más rápido. Encuentra tecnología útil y probada para acelerar tus resultados desde hoy. Conoce el MARKETPLACE B2B.\nFilantropía. Haz tus donaciones internacionales con seguridad jurídica y optimización fiscal. Te acompañamos en todo el proceso para que donar sea fácil\, eficaz y transparente.\nLongevidad. Prepárate para vivir\, aprender y contribuir en una sociedad más longeva y digital. Desarrolla tu curiosidad y tu proactividad y conecta con el futuro que ya está aquí.\n\n¿Lo hablamos?Cada reto empresarial o personal puede tener una solución más cercana de lo que imaginas.Conecta con Empresa y Sociedad y descubre cómo podemos ayudarte a avanzar con impacto desde ya.👉 Contáctanos 
URL:https://www.empresaysociedad.org/agenda/tecnologias-inmersivas-politicas-pubicas
LOCATION:Salón de Grados “Ramón Martín Mateo” de la Facultad de Derecho\, Universidad de Alicante\, Carretera de San Vicente del Raspeig\, s/n\, San Vicente del Raspeig\, Alicante\, 03690
CATEGORIES:b2b
ATTACH;FMTTYPE=image/jpeg:https://www.empresaysociedad.org/wp-content/uploads/2025/05/250613-Inmersiva.jpg
END:VEVENT
BEGIN:VEVENT
DTSTART;TZID=Europe/Madrid:20250618T103000
DTEND;TZID=Europe/Madrid:20250618T120000
DTSTAMP:20260423T224333
CREATED:20250610T210152Z
LAST-MODIFIED:20250612T112209Z
UID:28736-1750242600-1750248000@www.empresaysociedad.org
SUMMARY:Modelos de trabajo híbrido en España: Encuentro exclusivo In Place 4
DESCRIPTION:Modelos de trabajo híbrido en España\n¿Sabías que los modelos de trabajo híbrido y la flexibilidad dominan hoy las políticas laborales en España? \nSegún los resultados del estudio In Place 4\, presentado con motivo del quinto aniversario de la pandemia\, esta fórmula ya es la preferida por la mayoría de los empleados. Llega el momento de profundizar: ¿qué están haciendo las organizaciones para adaptarse? ¿qué exigen realmente los trabajadores? \n  \nContenido y perfil de los speakers\nÚnete a un desayuno BeFlex exclusivo organizado por Cushman & Wakefield y zityhub\, donde compartiremos datos clave sobre: \n\nDemandas profesionales: ¿qué buscan los trabajadores hoy?\nModelos de trabajo: ¿quién lidera la transformación?\nClaves de la flexibilidad: ¿por qué es esencial en España?\n\nLos expertos de Cushman & Wakefield presentarán conclusiones del estudio\, abrirán un debate sobre las tendencias emergentes y facilitarán una conversación profunda con asistentes de alto nivel. \n  \nQuién debe asistir\nEste encuentro está dirigido a altos directivos\, responsables de recursos humanos\, strategy officers y profesionales con capacidad de decidir o influir en las nuevas políticas de trabajo flexible. Una oportunidad única para descubrir insights reales\, compararlos con tu organización y liderar el cambio. \n  \nDía\, hora y sitio de la convocatoria\nBarcelona\n📅 Fecha y hora: 18 de junio\n🕙 10:30 a 12:00\n📍 Lugar: Pg. de Gràcia\, 56\, 7º Planta\, L’Eixample\, Barcelona (Oficinas de Cushman & Wakefield) \n  \nInscripción\n¡Sé de los primeros en descubrir los resultados! \nReserva ya tu plaza para asistir a este desayuno exclusivo (aforo limitado): \n👉 Más información y reserva de plaza\n  \nSobre Empresa y Sociedad\nLa Fundación Empresa y Sociedad dinamiza un ecosistema B2B vivo y colaborativo que une a directivos empresariales y a más de 1.000 empresas jóvenes con soluciones digitales disruptivas\, diseñado para abordar y superar los retos corporativos del futuro a través de la relación cliente-proveedor entre empresas y soluciones digitales seleccionadas. \nTrabaja en colaboración con scaleups\, empresas y entidades de referencia en el mundo de la innovación digital. \n\n¿Qué comparte Empresa y Sociedad con scaleups y empresas?\nConoce otros eventos y convocatorias del ecosistema B2B de Empresa y Sociedad\n\n  \n¿Quieres estar al día?\nConoce lo último en actividad y tendencias sobre\nEcosistema B2B\, soluciones digitales disruptivas / Filantropía internacional / Longevidad\n>>>  SUSCRÍBETE  <<<
URL:https://www.empresaysociedad.org/agenda/modelos-trabajo-hibrido
CATEGORIES:b2b
ATTACH;FMTTYPE=image/png:https://www.empresaysociedad.org/wp-content/uploads/2025/06/250618-Invitacion-CW-BARCELONA.png
END:VEVENT
BEGIN:VEVENT
DTSTART;VALUE=DATE:20250620
DTEND;VALUE=DATE:20250621
DTSTAMP:20260423T224333
CREATED:20250611T110000Z
LAST-MODIFIED:20250611T110000Z
UID:28757-1750377600-1750463999@www.empresaysociedad.org
SUMMARY:All Inclusive de VRANDED Haus\, una convocatoria para mejorar el branding de scaleups
DESCRIPTION:Una convocatoria para mejorar el branding de scaleups\nMejorar el branding de scaleups a través de una convocatoria abierta. Ese es el objetivo de All Inclusive. \n¿Tienes una scaleup con potencial\, pero tu imagen de marca no refleja tu ambición? El concurso All Inclusive de la consultora creativa VRANDED Haus puede cambiar tu trayectoria. Esta segunda edición de la convocatoria seleccionará un solo proyecto emprendedor para recibir un desarrollo de marca completo valorado en 40.000 €. Una oportunidad única para scaleups B2B que aspiran a crecer con una identidad visual y estratégica de alto nivel. \n  \nQué incluye el premio y cómo se desarrolla la convocatoria\nLa propuesta ganadora recibirá una estrategia global de marca\, un brandbook con su expresión visual y verbal\, y aplicaciones de diseño como programación web\, plantillas para redes sociales o uniformes. Todo con el enfoque integral y de excelencia de VRANDED Haus. \nLa participación consta de tres fases: \n\nInscripción online con formulario explicativo del proyecto.\nElevator pitch en vídeo (3 minutos) para los 50 semifinalistas.\nEntrevista final con el jurado para los 5 proyectos finalistas.\n\nEl jurado valorará la escalabilidad\, impacto\, tracción y recursos del proyecto. No basta con una buena idea: buscan compromiso\, visión y capacidad de ejecución. \n  \nA quién se dirige esta convocatoria\nAll Inclusive está orientado a emprendedores con visión y proyectos ambiciosos que aún no han podido desarrollar una marca a la altura de su potencial. Si lideras una scaleup con recorrido\, equipo sólido y aspiraciones claras de crecimiento\, esta convocatoria es para ti. \n  \nFechas clave y modo de participación\n\nApertura de inscripciones: 2 de junio de 2025\nCierre de candidaturas: 20 de junio de 2025\nDónde participar: en la web oficial de la convocatoria\n\n  \nInscríbete ahora y transforma tu marca\nHaz despegar tu proyecto con una identidad de marca potente\, estratégica y memorable. Inscríbete hoy y sé uno de los aspirantes al premio All Inclusive. \n👉 Accede a la web de la convocatoria\n  \n  \nSobre Empresa y Sociedad\nLa Fundación Empresa y Sociedad dinamiza un ecosistema B2B vivo y colaborativo que une a directivos empresariales y a más de 1.000 empresas jóvenes con soluciones digitales disruptivas\, diseñado para abordar y superar los retos corporativos del futuro a través de la relación cliente-proveedor entre empresas y soluciones digitales seleccionadas. \nTrabaja en colaboración con scaleups\, empresas y entidades de referencia en el mundo de la innovación digital. \n\n¿Qué comparte Empresa y Sociedad con scaleups y empresas?\nConoce otros eventos y convocatorias del ecosistema B2B de Empresa y Sociedad\n\n  \n¿Quieres estar al día?\nConoce lo último en actividad y tendencias sobre\nEcosistema B2B\, soluciones digitales disruptivas / Filantropía internacional / Longevidad\n>>>  SUSCRÍBETE  <<<
URL:https://www.empresaysociedad.org/agenda/convocatoria-branding-scaleups
LOCATION:Value Space\, Paseo de la Castellana\, 53\, 2ª planta\, Madrid\, 28046\, Spain
CATEGORIES:b2b
ATTACH;FMTTYPE=image/jpeg:https://www.empresaysociedad.org/wp-content/uploads/2025/06/vranded-creatividad-16_9.jpg
END:VEVENT
END:VCALENDAR