BEGIN:VCALENDAR
VERSION:2.0
PRODID:-//Fundación Empresa y Sociedad - ECPv6.15.20//NONSGML v1.0//EN
CALSCALE:GREGORIAN
METHOD:PUBLISH
X-ORIGINAL-URL:https://www.empresaysociedad.org
X-WR-CALDESC:Eventos para Fundación Empresa y Sociedad
REFRESH-INTERVAL;VALUE=DURATION:PT1H
X-Robots-Tag:noindex
X-PUBLISHED-TTL:PT1H
BEGIN:VTIMEZONE
TZID:Europe/Madrid
BEGIN:DAYLIGHT
TZOFFSETFROM:+0100
TZOFFSETTO:+0200
TZNAME:CEST
DTSTART:20240331T010000
END:DAYLIGHT
BEGIN:STANDARD
TZOFFSETFROM:+0200
TZOFFSETTO:+0100
TZNAME:CET
DTSTART:20241027T010000
END:STANDARD
BEGIN:DAYLIGHT
TZOFFSETFROM:+0100
TZOFFSETTO:+0200
TZNAME:CEST
DTSTART:20250330T010000
END:DAYLIGHT
BEGIN:STANDARD
TZOFFSETFROM:+0200
TZOFFSETTO:+0100
TZNAME:CET
DTSTART:20251026T010000
END:STANDARD
BEGIN:DAYLIGHT
TZOFFSETFROM:+0100
TZOFFSETTO:+0200
TZNAME:CEST
DTSTART:20260329T010000
END:DAYLIGHT
BEGIN:STANDARD
TZOFFSETFROM:+0200
TZOFFSETTO:+0100
TZNAME:CET
DTSTART:20261025T010000
END:STANDARD
END:VTIMEZONE
BEGIN:VEVENT
DTSTART;TZID=Europe/Madrid:20251009T090000
DTEND;TZID=Europe/Madrid:20251009T110000
DTSTAMP:20260423T164925
CREATED:20250911T193505Z
LAST-MODIFIED:20250911T193505Z
UID:29249-1760000400-1760007600@www.empresaysociedad.org
SUMMARY:Del teletrabajo sí o no\, a la flexibilidad como estrategia
DESCRIPTION:La flexibilidad como estrategia\nLa transformación del mundo laboral ya no se reduce al debate entre teletrabajo vs presencialidad. Hoy\, la flexibilidad laboral se perfila como una estrategia clave para la atracción\, fidelización y bienestar del talento. \nEn este espacio de conversación en Madrid\, reunimos a referentes de Recursos Humanos\, Salud y Bienestar que compartirán datos\, experiencias reales y visiones sobre cómo las empresas pueden adoptar modelos laborales ágiles\, inclusivos y competitivos para afrontar los retos actuales. \nContenido y perfil de los speakers\n\nCasos reales de grandes corporaciones que han puesto en marcha estrategias de flexibilidad y han medido su impacto en compromiso\, productividad y salud de los empleados.\nDatos recientes sobre tendencias en bienestar laboral\, salud mental\, equilibrio vida‑trabajo y expectativas del talento tras la pandemia.\nPanel de expertos en RR.HH.\, bienestar organizacional y salud ocupacional que aportarán conocimiento técnico\, buenas prácticas y retos para implementar la flexibilidad de forma sostenible.\n\nQuién debe asistir\n\nDirectores/as de Recursos Humanos\, Personas y Organización que lideran estrategias de talento.\nResponsables de Salud Ocupacional y Bienestar Corporativo.\nAltos directivos interesados en innovación organizacional y cultura de empresa.\nConsultores y asesores en transformación laboral.\nCualquier profesional que busca implementar políticas flexibles que generen impacto en bienestar\, retención y marca empleadora.\n\nDía\, hora y sitio de la convocatoria\nBarcelona\n📅 Fecha y hora: 9 de octubre de 2025\n🕙 9:00 a 11:00\n📍 Lugar: Auditorio\, Calle Jorge Juan 30\, Madrid (Sede Cremades & Calvo‑Sotelo) \n  \nInscripción\nReserva ya tu plaza para asistir a este desayuno exclusivo (aforo limitado): \n👉 Más información y reserva de plaza\n  \nSobre Empresa y Sociedad\nLa Fundación Empresa y Sociedad dinamiza un ecosistema B2B vivo y colaborativo que une a directivos empresariales y a más de 1.000 empresas jóvenes con soluciones digitales disruptivas\, diseñado para abordar y superar los retos corporativos del futuro a través de la relación cliente-proveedor entre empresas y soluciones digitales seleccionadas. \nTrabaja en colaboración con scaleups\, empresas y entidades de referencia en el mundo de la innovación digital. \n\n¿Qué comparte Empresa y Sociedad con scaleups y empresas?\nConoce otros eventos y convocatorias del ecosistema B2B de Empresa y Sociedad\n\nFundación Empresa y Sociedad\, un ecosistema B2B donde ayudamos…¡y nos ayudamos! \n  \n¿Quieres estar al día?\nConoce lo último en actividad y tendencias sobre\nEcosistema B2B\, soluciones digitales disruptivas / Filantropía internacional / Longevidad\n>>>  SUSCRÍBETE  <<<
URL:https://www.empresaysociedad.org/agenda/flexibilidad-como-estrategia
LOCATION:Auditorio Cremades&Calvo Sotelo\, Jorge Juan 30\, Madrid\, 28001
CATEGORIES:b2b
ATTACH;FMTTYPE=image/png:https://www.empresaysociedad.org/wp-content/uploads/2025/09/BeFlex-Events-Madrid-0910.png
END:VEVENT
BEGIN:VEVENT
DTSTART;TZID=Europe/Madrid:20251021T090000
DTEND;TZID=Europe/Madrid:20251021T190000
DTSTAMP:20260423T164925
CREATED:20250611T065754Z
LAST-MODIFIED:20250611T121428Z
UID:28750-1761037200-1761073200@www.empresaysociedad.org
SUMMARY:The Gap in Between – Annual Summit 2025
DESCRIPTION:The Gap in Between 2025\nThe Gap in Between 2025 es una plataforma global que reúne a corporaciones\, inversores\, formuladores de políticas y emprendedores de impacto con el fin de abordar los desafíos sociales y ambientales más urgentes. Este encuentro propone una visión transformadora: fomentar el pensamiento sistémico y la colaboración con propósito\, usando el poder del ecosistema para diseñar soluciones innovadoras y eficaces. \n  \nContenido y perfil de los speakers\nLa jornada girará en torno a tres ejes temáticos: \n\nCiudades del mañana: infraestructura inteligente\, renovable y sostenible.\nDe la extracción a la regeneración: sistemas regenerativos de recursos y alimentación.\nResiliencia socieconómica: soluciones inclusivas en un mundo cada vez más digital.\n\nLos ponentes incluyen líderes corporativos\, representantes de fundaciones\, emprendedores sociales y policymakers\, que compartirán casos de éxito\, últimas tendencias y herramientas aplicables. Además\, se celebrará el Desafío de startups\, donde proyectos innovadores competirán en vivo para ser apoyados. \n  \nQuién debe asistir\nEste evento está diseñado para altos directivos\, inversores\, responsables de sostenibilidad\, emprendedores sociales y cualquier profesional comprometido con la transformación sistémica. Si tu misión es impulsar el cambio global\, aquí encontrarás inspiración\, conexión y acción. \n  \nDía\, hora y sitio de la convocatoria\n📅 Martes 21 de octubre de 2025\n🕘 De 9:00 a 19:00 (hora Europa/Madrid)\n📍 La Marina de Valencia\, Base 1 (Zeus)\, C. de la Travesía\, s/n\, 46024 Valencia\, España \n  \nInscripción\nSólo por tiempo limitado\, las entradas Early Bird ya están disponibles. \nAl adquirir tu entrada no solo aseguras tu plaza\, sino que además contribuirás directamente: el 100 % de la recaudación se destina a la Fundación Felisa para apoyar la recuperación tras la DANA en Valencia. \nReserva ahora y conviértete en un agente de cambio global: \n👉 Consigue tu entrada aquí\nCon código de descuento del 30% sobre el precio de la entrada ( EMPRESAYSOCIEDAD30 )\, válido hasta el 30 de junio \nCupo de entradas gratuitas\, previa solicitud aquí \n  \nSobre Empresa y Sociedad\nLa Fundación Empresa y Sociedad dinamiza un ecosistema B2B vivo y colaborativo que une a directivos empresariales y a más de 1.000 empresas jóvenes con soluciones digitales disruptivas\, diseñado para abordar y superar los retos corporativos del futuro a través de la relación cliente-proveedor entre empresas y soluciones digitales seleccionadas. \nTrabaja en colaboración con scaleups\, empresas y entidades de referencia en el mundo de la innovación digital. \n\n¿Qué comparte Empresa y Sociedad con scaleups y empresas?\nConoce otros eventos y convocatorias del ecosistema B2B de Empresa y Sociedad\n\n  \n¿Quieres estar al día?\nConoce lo último en actividad y tendencias sobre\nEcosistema B2B\, soluciones digitales disruptivas / Filantropía internacional / Longevidad\n>>>  SUSCRÍBETE  <<<
URL:https://www.empresaysociedad.org/agenda/gap-in-between-2025
LOCATION:La Marina de Valencia\, Base 1 (Zeus)\, Calle de la Travesía\, s/n\, Valencia\, 46024
CATEGORIES:b2b
ATTACH;FMTTYPE=image/png:https://www.empresaysociedad.org/wp-content/uploads/2025/06/Horizontal-TheGIB2025blue.png
END:VEVENT
BEGIN:VEVENT
DTSTART;VALUE=DATE:20251030
DTEND;VALUE=DATE:20251031
DTSTAMP:20260423T164925
CREATED:20250723T213146Z
LAST-MODIFIED:20251001T200310Z
UID:28981-1761782400-1761868799@www.empresaysociedad.org
SUMMARY:Modalidad Scaleup en los Premios Nacionales de Transferencia de Conocimiento
DESCRIPTION:Los Premios de Transferencia de Conocimiento\, en toda España\nLos Premios Nacionales de Transferencia de Conocimiento\, IPfest 2025\, incluyen una modalidad para scaleups. \nLa transferencia de conocimiento deja de ser un concepto abstracto para convertirse en una palanca real de innovación y crecimiento empresarial. \nEste año\, los Premios Nacionales de Transferencia de Conocimiento IPfest incluyen una modalidad para scaleups que hayan escalado gracias a la transferencia de conocimiento universitario. \nSe celebrarán de forma simultánea en todas las Comunidades Autónomas\, conectando en tiempo real a investigadores\, universidades\, OTCs y empresas en una experiencia compartida sin precedentes. \n  \nPremio Scaleup: donde la ciencia se hace empresa\nEntre las distintas categorías\, destaca el Premio Scale Up\, dirigido a empresas que han escalado gracias a la transferencia de conocimiento universitario desde grupos de investigación o desde Oficinas de Transferencia de Conocimiento (OTCs). Este galardón conecta especialmente con el ecosistema B2B\, reconociendo a quienes han convertido el saber en soluciones escalables\, sostenibles y competitivas. \n  \nUn evento que celebra la innovación y la colaboración\nIPfest 2025 reconoce el talento que transforma el conocimiento en impacto. La ceremonia\, de dos horas de duración\, se centra en la entrega de premios regionales con un enfoque colaborativo: cada comunidad autónoma tendrá su propio jurado\, premiados y escenario. \nTodo ello estará conectado digitalmente en una red nacional de eventos. Este año\, además\, se lanza el canal audiovisual IPfest\, con entrevistas\, debates y análisis diarios sobre patentes\, casos de éxito y noticias clave. \n  \nDirigido a quienes creen en el valor de compartir el conocimiento\nEl evento está abierto a investigadores\, universidades\, centros tecnológicos\, OTCs y empresas que entienden la transferencia como un camino hacia la innovación social y empresarial. Una cita imprescindible para quienes buscan inspirarse\, colaborar y formar parte de una red nacional de generadores de impacto. \n  \nAgenda y logística del evento\n📅 20 de noviembre de 2025\n🕙 19:00 a 21:00\n📍Cada Comunidad Autónoma contará con su sede presencial. Consulta la tuya en la web del evento. \n  \nInscríbete en el Premio Scaleup (hasta el 30 de octubre)\n¿Has escalado gracias a la transferencia de conocimiento universitario? \nLa convocatoria está abierta y puedes inscribirte hasta el 30 de octubre: \n👉 Inscríbete ya\n  \nSobre Empresa y Sociedad\nLa Fundación Empresa y Sociedad dinamiza un ecosistema B2B vivo y colaborativo que une a directivos empresariales y a más de 1.000 empresas jóvenes con soluciones digitales disruptivas\, diseñado para abordar y superar los retos corporativos del futuro a través de la relación cliente-proveedor entre empresas y soluciones digitales seleccionadas. \nTrabaja en colaboración con scaleups\, empresas y entidades de referencia en el mundo de la innovación digital. \n\n¿Qué comparte Empresa y Sociedad con scaleups y empresas?\nConoce otros eventos y convocatorias del ecosistema B2B de Empresa y Sociedad\n\n  \n¿Quieres estar al día?\nConoce lo último en actividad y tendencias sobre\nEcosistema B2B\, soluciones digitales disruptivas / Filantropía internacional / Longevidad\n>>>  SUSCRÍBETE  <<<
URL:https://www.empresaysociedad.org/agenda/premios-transferencia-conocimiento
CATEGORIES:b2b
ATTACH;FMTTYPE=image/png:https://www.empresaysociedad.org/wp-content/uploads/2025/07/Portada-1-IPFest-2025.png
END:VEVENT
END:VCALENDAR