BEGIN:VCALENDAR
VERSION:2.0
PRODID:-//Fundación Empresa y Sociedad - ECPv6.15.20//NONSGML v1.0//EN
CALSCALE:GREGORIAN
METHOD:PUBLISH
X-WR-CALNAME:Fundación Empresa y Sociedad
X-ORIGINAL-URL:https://www.empresaysociedad.org
X-WR-CALDESC:Eventos para Fundación Empresa y Sociedad
REFRESH-INTERVAL;VALUE=DURATION:PT1H
X-Robots-Tag:noindex
X-PUBLISHED-TTL:PT1H
BEGIN:VTIMEZONE
TZID:Europe/Madrid
BEGIN:DAYLIGHT
TZOFFSETFROM:+0100
TZOFFSETTO:+0200
TZNAME:CEST
DTSTART:20250330T010000
END:DAYLIGHT
BEGIN:STANDARD
TZOFFSETFROM:+0200
TZOFFSETTO:+0100
TZNAME:CET
DTSTART:20251026T010000
END:STANDARD
BEGIN:DAYLIGHT
TZOFFSETFROM:+0100
TZOFFSETTO:+0200
TZNAME:CEST
DTSTART:20260329T010000
END:DAYLIGHT
BEGIN:STANDARD
TZOFFSETFROM:+0200
TZOFFSETTO:+0100
TZNAME:CET
DTSTART:20261025T010000
END:STANDARD
BEGIN:DAYLIGHT
TZOFFSETFROM:+0100
TZOFFSETTO:+0200
TZNAME:CEST
DTSTART:20270328T010000
END:DAYLIGHT
BEGIN:STANDARD
TZOFFSETFROM:+0200
TZOFFSETTO:+0100
TZNAME:CET
DTSTART:20271031T010000
END:STANDARD
END:VTIMEZONE
BEGIN:VEVENT
DTSTART;VALUE=DATE:20260220
DTEND;VALUE=DATE:20260221
DTSTAMP:20260421T112429
CREATED:20260127T164848Z
LAST-MODIFIED:20260127T165036Z
UID:30175-1771545600-1771631999@www.empresaysociedad.org
SUMMARY:Reto BIOK!: mejorar la visibilidad de las marcas viales en lluvia y meteorología adversa (Bizkaia)
DESCRIPTION:Mejorar la visibilidad de las marcas viales en lluvia\nCuando cae una lluvia intensa\, la seguridad vial depende de un detalle que muchas veces pasa desapercibido: que las marcas viales sigan “hablando” al conductor. \nEl Departamento de Infraestructuras y Desarrollo Territorial de la Diputación Foral de Bizkaia\, con el impulso de Beaz a través de BIOK! LivingLab\, abre un reto de innovación abierta para encontrar soluciones reales\, escalables y sostenibles que aumenten la visibilidad de la señalización horizontal en carretera. \nContenido y perfil de la convocatoria: ¿Qué busca? ¿Cuál es el premio?\nSe buscan propuestas capaces de: \n\nMantener la retrorreflexión en condiciones de lluvia\, incluso sin alumbrado y con baja visibilidad.\nGarantizar la visibilidad de las marcas viales a cualquier hora y con condiciones meteorológicas adversas.\nCumplir requisitos técnicos y ser económicamente sostenibles.\n\nEl equipo ganador desarrollará un proyecto piloto con el Departamento\, validando la solución en un entorno real\, con un piloto de importe inferior a 40.000 € (según bases). \n¿Quién se debe presentar y por qué?\nEsta convocatoria está abierta a personas emprendedoras\, startups\, pymes\, centros tecnológicos y universidades. \nSi lideras una organización (o un área de innovación) con capacidades en materiales\, recubrimientos\, óptica/fotónica\, sensórica\, ingeniería civil\, movilidad inteligente o mantenimiento de infraestructuras\, aquí puedes convertir I+D en impacto medible: menos riesgo\, más confianza del conductor y una vía clara para escalar desde un piloto con una administración tractora. \nDía y hora límite y sitio para presentar candidaturas\n\nPlazo de candidaturas: hasta el 20 de febrero de 2026 (cierre según plataforma).\nSesión informativa online para entender el alcance\, el proceso BIOK! y resolver dudas: 5 de febrero de 2026\, 9:30–11:00.\nEnvío de propuestas: botón “Enviar una propuesta” en la página del reto.\n\nEnlace a la web de la entidad organizadora\nDiputación Foral de Bizkaia – Infraestructuras y Desarrollo Territorial. \nEnlace a la web de la inscripción\nSi tienes una solución (o un enfoque híbrido) capaz de mejorar la visibilidad en lluvia\, preséntala ahora: este es el tipo de reto que puede acelerar tu entrada en mercado con una validación pública\, técnica y en condiciones reales. \nAmplía información e inscríbete ya aquí\, en la página del reto en BIOK! (“Enviar una propuesta”): \n👉 Inscríbete ya\n  \nMás información\nLa Fundación Empresa y Sociedad dinamiza un ecosistema B2B vivo y colaborativo que une a directivos empresariales y a más de 1.000 empresas jóvenes con soluciones digitales disruptivas\, diseñado para abordar y superar los retos corporativos del futuro a través de la relación cliente-proveedor entre empresas y soluciones digitales seleccionadas. \nTrabaja en colaboración con scaleups\, empresas y entidades de referencia en el mundo de la innovación digital. \n\n¿Qué comparte Empresa y Sociedad con scaleups y empresas?\nConoce otros eventos y convocatorias del ecosistema B2B de Empresa y Sociedad\n\nFundación Empresa y Sociedad\, un ecosistema abierto donde ayudamos… ¡y nos ayudamos! \n  \n¿Quieres estar al día?\nConoce lo último en actividad y tendencias sobre\nEcosistema B2B\, soluciones digitales disruptivas / Filantropía internacional / Longevidad\n>>>  SUSCRÍBETE  <<<
URL:https://www.empresaysociedad.org/agenda/visibilidad-marcas-viales-lluvia
LOCATION:online
CATEGORIES:b2b
ATTACH;FMTTYPE=image/png:https://www.empresaysociedad.org/wp-content/uploads/2026/01/260220-BEAZ-Reto-Visibilidad-Carreteras-con-TEXTO.png
END:VEVENT
END:VCALENDAR