BEGIN:VCALENDAR
VERSION:2.0
PRODID:-//Fundación Empresa y Sociedad - ECPv6.15.20//NONSGML v1.0//EN
CALSCALE:GREGORIAN
METHOD:PUBLISH
X-ORIGINAL-URL:https://www.empresaysociedad.org
X-WR-CALDESC:Eventos para Fundación Empresa y Sociedad
REFRESH-INTERVAL;VALUE=DURATION:PT1H
X-Robots-Tag:noindex
X-PUBLISHED-TTL:PT1H
BEGIN:VTIMEZONE
TZID:Europe/Madrid
BEGIN:DAYLIGHT
TZOFFSETFROM:+0100
TZOFFSETTO:+0200
TZNAME:CEST
DTSTART:20220327T010000
END:DAYLIGHT
BEGIN:STANDARD
TZOFFSETFROM:+0200
TZOFFSETTO:+0100
TZNAME:CET
DTSTART:20221030T010000
END:STANDARD
BEGIN:DAYLIGHT
TZOFFSETFROM:+0100
TZOFFSETTO:+0200
TZNAME:CEST
DTSTART:20230326T010000
END:DAYLIGHT
BEGIN:STANDARD
TZOFFSETFROM:+0200
TZOFFSETTO:+0100
TZNAME:CET
DTSTART:20231029T010000
END:STANDARD
BEGIN:DAYLIGHT
TZOFFSETFROM:+0100
TZOFFSETTO:+0200
TZNAME:CEST
DTSTART:20240331T010000
END:DAYLIGHT
BEGIN:STANDARD
TZOFFSETFROM:+0200
TZOFFSETTO:+0100
TZNAME:CET
DTSTART:20241027T010000
END:STANDARD
END:VTIMEZONE
BEGIN:VEVENT
DTSTART;VALUE=DATE:20230710
DTEND;VALUE=DATE:20230712
DTSTAMP:20260426T021247
CREATED:20230609T145407Z
LAST-MODIFIED:20230609T145411Z
UID:21429-1688947200-1689119999@www.empresaysociedad.org
SUMMARY:The Civic Space in Europe
DESCRIPTION:The Civic Space in Europe – Shrinking\, Growing\, Enhancing?\nIn recent years\, the European Union has suffered from democratic backsliding and the erosion of the rule of law as well as from a weakening of other fundamental values such as institutional trust. This democratic decline is intertwined with the shrinking civic space – the growing tendency to restrict of civil society action – in Europe\, that was focus of a three-year project at Maecenata Institute. \nWhile there are alarming signs of repression and mistrust towards Civil Society Organizations (CSOs)\, there is also the observation that civil societies are responding to this by forming new coalitions and attempting to push back\, which has also led to the emergence of new CSOs. In order to achieve a comprehensive systemic overview\, a European perspective must necessarily take into account the specific peculiarities of the nations that are part of the European project. The perspective of the European Civic Space Observatory (ESCO)\, which encompasses European countries that are all members of the Council of Europe but not necessarily members of the European Union\, includes both long-term stable democracies and countries where the democratic transformation took place only a generation ago. The ESCO attempted to combine both holistic and specific approaches in order to compare the different situations across Europe. \nAs we mark the end of our three-year project exploring the critical issues of the changing civic space in Europe\, we cordially invite you to attend to the upcoming conference: “The Civic Space in Europe – Shrinking\, Growing\, Enhancing?”. \n  \nRegistration\nThere is no registration fee. \nPlease register under till 3 July latest  here \nThere is a limited number of places.
URL:https://www.empresaysociedad.org/agenda/the-civic-space-in-europe
LOCATION:Berlin-Brandenburg Academy of Sciences and Humanities\, Einsteinsaal\, Jägerstrasse 22-23\, Berlin\, 10117
CATEGORIES:filantropía
ATTACH;FMTTYPE=image/jpeg:https://www.empresaysociedad.org/wp-content/uploads/2023/06/230710-Maecenata-Conference.jpg
END:VEVENT
END:VCALENDAR