BEGIN:VCALENDAR
VERSION:2.0
PRODID:-//Fundación Empresa y Sociedad - ECPv6.15.20//NONSGML v1.0//EN
CALSCALE:GREGORIAN
METHOD:PUBLISH
X-WR-CALNAME:Fundación Empresa y Sociedad
X-ORIGINAL-URL:https://www.empresaysociedad.org
X-WR-CALDESC:Eventos para Fundación Empresa y Sociedad
REFRESH-INTERVAL;VALUE=DURATION:PT1H
X-Robots-Tag:noindex
X-PUBLISHED-TTL:PT1H
BEGIN:VTIMEZONE
TZID:Europe/Madrid
BEGIN:DAYLIGHT
TZOFFSETFROM:+0100
TZOFFSETTO:+0200
TZNAME:CEST
DTSTART:20230326T010000
END:DAYLIGHT
BEGIN:STANDARD
TZOFFSETFROM:+0200
TZOFFSETTO:+0100
TZNAME:CET
DTSTART:20231029T010000
END:STANDARD
BEGIN:DAYLIGHT
TZOFFSETFROM:+0100
TZOFFSETTO:+0200
TZNAME:CEST
DTSTART:20240331T010000
END:DAYLIGHT
BEGIN:STANDARD
TZOFFSETFROM:+0200
TZOFFSETTO:+0100
TZNAME:CET
DTSTART:20241027T010000
END:STANDARD
BEGIN:DAYLIGHT
TZOFFSETFROM:+0100
TZOFFSETTO:+0200
TZNAME:CEST
DTSTART:20250330T010000
END:DAYLIGHT
BEGIN:STANDARD
TZOFFSETFROM:+0200
TZOFFSETTO:+0100
TZNAME:CET
DTSTART:20251026T010000
END:STANDARD
END:VTIMEZONE
BEGIN:VEVENT
DTSTART;VALUE=DATE:20240118
DTEND;VALUE=DATE:20240120
DTSTAMP:20260425T140418
CREATED:20231214T220627Z
LAST-MODIFIED:20231214T220808Z
UID:22059-1705536000-1705708799@www.empresaysociedad.org
SUMMARY:Science for Industry 2024
DESCRIPTION:Science for Industry\nS4i es el mayor punto de encuentro europeo de Deep Science que reúne a investigadores de los organismos generadores de conocimiento\, startups\, corporaciones e inversores\, una iniciativa de la Universidad Autónoma de Madrid y BeAble Capital apoyada por la Comunidad de Madrid y el Ayuntamiento de Madrid. \n  \nRetos industriales\nLas empresas líderes de cada sector industrial exponen los retos industriales a los que se están enfrentando actualmente y para los que buscan soluciones innovadoras. Para presentar respuestas a esos retos y establecer relaciones con esas empresas durante S4i se puede consultar la plataforma de retos aquí. \n  \nStartups DeepTech\nEn caso de explotar en exclusiva tecnología propia o de terceros (licencia) las startups deeptech pueden participar en: \n\nPlataforma de inversión Deeptech BAN madri+d (9 de enero). Si la empresa tienen menos de cinco años y está en búsqueda de inversión de hasta un millón de euros para financiar su fase inicial de crecimiento le invitamos a presentar su proyecto a inversores nacionales especializados en Deep Tech inscribiendo su candidatura aquí.\nOtras actividades para startups y otras soluciones científicas serán el Investor Day (9 de enero para empresas deeptech en búsqueda de más de 1 millón de euros)\, los Pitches frente a inversores o la presentación de prototipos\, así como la presentación de soluciones innovadoras a los retos industriales de las corporaciones o el acceso al catálogo digital de patentes.\n\nMás información \n  \nInscripciones\nPuedes comprar los tickets en este enlace: \nCOMPRAR TICKETS\n  \nSobre Empresa y Sociedad\nLa Fundación Empresa y Sociedad es un ecosistema B2B vivo y colaborativo de 1.700 scaleups y 4.800 directivos empresariales que dinamiza la Fundación. Trabaja en colaboración con scaleups\, empresas y entidades de referencia en el mundo de la innovación digital. \n\n¿Qué comparte Empresa y Sociedad con scaleups y empresas?\nConoce otros eventos y convocatorias del ecosistema B2B de Empresa y Sociedad
URL:https://www.empresaysociedad.org/agenda/science-for-industry-2024
LOCATION:La Nave Madrid\, Cifuentes 5\, Madrid\, 28021
CATEGORIES:b2b
ATTACH;FMTTYPE=image/jpeg:https://www.empresaysociedad.org/wp-content/uploads/2023/12/240118-Science-4-Industry.jpg
END:VEVENT
END:VCALENDAR