BEGIN:VCALENDAR
VERSION:2.0
PRODID:-//Fundación Empresa y Sociedad - ECPv6.15.20//NONSGML v1.0//EN
CALSCALE:GREGORIAN
METHOD:PUBLISH
X-ORIGINAL-URL:https://www.empresaysociedad.org
X-WR-CALDESC:Eventos para Fundación Empresa y Sociedad
REFRESH-INTERVAL;VALUE=DURATION:PT1H
X-Robots-Tag:noindex
X-PUBLISHED-TTL:PT1H
BEGIN:VTIMEZONE
TZID:Europe/Madrid
BEGIN:DAYLIGHT
TZOFFSETFROM:+0100
TZOFFSETTO:+0200
TZNAME:CEST
DTSTART:20240331T010000
END:DAYLIGHT
BEGIN:STANDARD
TZOFFSETFROM:+0200
TZOFFSETTO:+0100
TZNAME:CET
DTSTART:20241027T010000
END:STANDARD
BEGIN:DAYLIGHT
TZOFFSETFROM:+0100
TZOFFSETTO:+0200
TZNAME:CEST
DTSTART:20250330T010000
END:DAYLIGHT
BEGIN:STANDARD
TZOFFSETFROM:+0200
TZOFFSETTO:+0100
TZNAME:CET
DTSTART:20251026T010000
END:STANDARD
BEGIN:DAYLIGHT
TZOFFSETFROM:+0100
TZOFFSETTO:+0200
TZNAME:CEST
DTSTART:20260329T010000
END:DAYLIGHT
BEGIN:STANDARD
TZOFFSETFROM:+0200
TZOFFSETTO:+0100
TZNAME:CET
DTSTART:20261025T010000
END:STANDARD
END:VTIMEZONE
BEGIN:VEVENT
DTSTART;VALUE=DATE:20250110
DTEND;VALUE=DATE:20250111
DTSTAMP:20260425T130324
CREATED:20241208T183718Z
LAST-MODIFIED:20241208T183942Z
UID:24643-1736467200-1736553599@www.empresaysociedad.org
SUMMARY:Medición de la audiencia en Cartelería Digital
DESCRIPTION:  \nMedición de la audiencia en Cartelería Digital\nLa medición de la audiencia en su cartelería digital es clave para MOEVE. Sus pantallas informativas son una herramienta fundamental en los canales de comunicación interna\, ya que facilitan la transmisión de mensajes corporativos\, noticias internas\, recordatorios de seguridad y anuncios importantes\, entre otros para sus más de 11.000 trabajadores. \nEstas pantallas están en áreas comunes como pasillos\, comedores o recepciones que ofrecen una forma dinámica y visual de mantener informados a los empleados y alineados con los objetivos y actividades de la organización\, mejorando la comunicación interna y el compromiso del equipo. \nEl objetivo del reto es entender mejor el comportamiento del público y su respuesta para optimizar los mensajes según su nivel de atención\, maximizando el rendimiento de cada contenido y el impacto de las campañas publicitarias o informativas. \nCon la medición de la audiencia de su cartelería digital\, MOEVE busca soluciones que le ayuden a implementar medidores en algunas de sus pantallas informativas (cartelería digital). Busca una solución que sea independiente y adaptable a diferentes plataformas\, garantizando su flexibilidad y funcionalidad en diversos entornos tecnológicos. \nPara todo ello cuenta con la Fundación Empresa y Sociedad como Partner y Secretaría Técnica de la Convocatoria. \nSe abre ya la preinscripción\, requisito previo para iniciar la presentación de candidaturas hasta el 10 de enero. \n  \n¿Qué ofrecemos?\nPor parte de MOEVE \n\nRealizar una prueba de concepto (PoC) en colaboración con una de nuestras unidades de negocio para demostrar su viabilidad y potencial escalado en la compañía.\nSponsorship de la PoC\n\nPor parte de la Fundación Empresa y Sociedad \n\nInformación general en website y LinkedIn.\nPara scaleups no asociadas\, alta en su MARKETPLACE B2B durante tres meses.\n\n  \nMás información\n¿Quieres ampliar información sobre el reto que plantea MOEVE? \n\nDescripción del reto.\nContexto.\nObjetivo.\n¿Qué ofrecemos a las scaleups seleccionadas?\nCalendario.\nPreinscripción.\n\nEstá disponible aquí: \n>>>  MÁS INFORMACIÓN  <<<\n  \n \n  \nActívate ya\nInscríbete cuanto antes. ¡No le dejes para último día! \nAsí te guiaremos para facilitar la presentación de tu candidatura antes del viernes 10 de enero. \n>>>  INSCRÍBETE  <<<\n  \nSobre Empresa y Sociedad\nUnimos a empresarios\, directivos y más de 1.500 empresas jóvenes con soluciones digitales disruptivas para responder a necesidades en áreas de Marketing y Ventas\, Operaciones\, Personas\, Sostenibilidad… a través de la relación cliente-proveedor entre empresas y soluciones seleccionadas \n\nConoce el Ecosistema B2B\nConoce el MARKETPLACE B2B\nConoce otros eventos y convocatorias del ecosistema B2B de Empresa y Sociedad\n\n  \n¿Quieres estar al día?\nConoce lo último en actividad y tendencias sobre\nEcosistema B2B\, soluciones digitales disruptivas / Filantropía internacional / Longevidad\n>>>  SUSCRÍBETE  <<<
URL:https://www.empresaysociedad.org/agenda/medicion-audiencia-carteleria-digital
LOCATION:Value Space\, Paseo de la Castellana\, 53\, 2ª planta\, Madrid\, 28046\, Spain
CATEGORIES:b2b
ATTACH;FMTTYPE=image/png:https://www.empresaysociedad.org/wp-content/uploads/2024/12/Portada-Convocatoria.png
END:VEVENT
END:VCALENDAR