BEGIN:VCALENDAR
VERSION:2.0
PRODID:-//Fundación Empresa y Sociedad - ECPv6.15.20//NONSGML v1.0//EN
CALSCALE:GREGORIAN
METHOD:PUBLISH
X-WR-CALNAME:Fundación Empresa y Sociedad
X-ORIGINAL-URL:https://www.empresaysociedad.org
X-WR-CALDESC:Eventos para Fundación Empresa y Sociedad
REFRESH-INTERVAL;VALUE=DURATION:PT1H
X-Robots-Tag:noindex
X-PUBLISHED-TTL:PT1H
BEGIN:VTIMEZONE
TZID:Europe/Madrid
BEGIN:DAYLIGHT
TZOFFSETFROM:+0100
TZOFFSETTO:+0200
TZNAME:CEST
DTSTART:20240331T010000
END:DAYLIGHT
BEGIN:STANDARD
TZOFFSETFROM:+0200
TZOFFSETTO:+0100
TZNAME:CET
DTSTART:20241027T010000
END:STANDARD
BEGIN:DAYLIGHT
TZOFFSETFROM:+0100
TZOFFSETTO:+0200
TZNAME:CEST
DTSTART:20250330T010000
END:DAYLIGHT
BEGIN:STANDARD
TZOFFSETFROM:+0200
TZOFFSETTO:+0100
TZNAME:CET
DTSTART:20251026T010000
END:STANDARD
BEGIN:DAYLIGHT
TZOFFSETFROM:+0100
TZOFFSETTO:+0200
TZNAME:CEST
DTSTART:20260329T010000
END:DAYLIGHT
BEGIN:STANDARD
TZOFFSETFROM:+0200
TZOFFSETTO:+0100
TZNAME:CET
DTSTART:20261025T010000
END:STANDARD
END:VTIMEZONE
BEGIN:VEVENT
DTSTART;VALUE=DATE:20251027
DTEND;VALUE=DATE:20251028
DTSTAMP:20260422T125333
CREATED:20250911T175629Z
LAST-MODIFIED:20250911T180528Z
UID:29241-1761523200-1761609599@www.empresaysociedad.org
SUMMARY:Green Challenge de DoGood: programa de team building para impacto real
DESCRIPTION:Green Challenge de DoGood: team building para impacto real\nVivimos tiempos en los que el propósito corporativo ya no es un extra: es el motor que mueve equipos\, fideliza talento y genera diferencia en el mundo. El Green Challenge de DoGood ofrece una oportunidad única para que las empresas activen ese propósito\, generen cohesión interna y desarrollen hábitos de impacto ambiental y social\, todo ello de forma práctica\, motivadora y divertida. \nContenido gamificado\nDurante tres semanas\, equipos formados por empleados de diversas empresas participarán en retos gamificados que combinan aprendizaje colaborativo\, acciones tangibles de sostenibilidad y seguimiento mediante app para medir progreso y resultados. \nLos retos pueden ir desde cambios de hábitos individuales hasta iniciativas colectivas de impacto social y medioambiental. \nHay material de apoyo\, mentores digitales y herramientas para impulsar la reflexión\, la innovación interna y el compromiso real en la empresa. \nQuién debe asistir\nEste programa está diseñado para altos directivos\, equipos de RRHH\, liderazgo intermedio\, responsables de sostenibilidad y todo profesional comprometido con generar un cambio real en su organización. Si quieres fortalecer la cultura corporativa\, mejorar la motivación interna o simplemente dar un paso práctico hacia la sostenibilidad\, el Green Challenge es para ti y tu equipo. \nDía\, hora y sitio de la convocatoria\n\nInicio: 27 de octubre de 2025\nDuración: 3 semanas (hasta el 16 de noviembre).\nModalidad: online / digital\, con retos accesibles a través de la plataforma/app de DoGood.\n\nCoste\nApuntar un equipo (hasta 25 personas) tiene un coste de 950 €. \nCall to action para la inscripción\nNo dejes pasar esta oportunidad de transformar tu equipo desde el propósito\, cohesión y acción concreta. Inscribe ya tu equipo para la edición que empieza el 27 de octubre y asegura tu plaza. \nCada día cuenta para empezar a generar impacto. \nInscripción\n¡No dejes pasar esta oportunidad de transformar el futuro de tu organización! \nDespierta tu curiosidad y únete a la vanguardia del impacto social. \nAmplía información e inscríbete aquí: \n>> Más información e inscripción <<\n  \nSobre Empresa y Sociedad\nUnimos a empresarios\, directivos y más de  1.000 empresas jóvenes con soluciones digitales disruptivas para responder a necesidades en áreas de Marketing y Ventas\, Operaciones\, Personas\, Sostenibilidad… a través de la relación cliente-proveedor entre empresas y soluciones seleccionadas. Entre ellas se encuentra el Fondo de Fundaciones de Impacto. \n\nConoce el Ecosistema B2B\nConoce el MARKETPLACE B2B\nConoce otros eventos y convocatorias del ecosistema B2B de Empresa y Sociedad\n\nUn ecosistema B2B donde ayudamos… ¡y nos ayudamos!
URL:https://www.empresaysociedad.org/agenda/green-challenge-dogood
LOCATION:online
CATEGORIES:b2b
ATTACH;FMTTYPE=image/png:https://www.empresaysociedad.org/wp-content/uploads/2025/09/grenwashingchallenge.png
END:VEVENT
END:VCALENDAR