BEGIN:VCALENDAR
VERSION:2.0
PRODID:-//Fundación Empresa y Sociedad - ECPv6.15.20//NONSGML v1.0//EN
CALSCALE:GREGORIAN
METHOD:PUBLISH
X-WR-CALNAME:Fundación Empresa y Sociedad
X-ORIGINAL-URL:https://www.empresaysociedad.org
X-WR-CALDESC:Eventos para Fundación Empresa y Sociedad
REFRESH-INTERVAL;VALUE=DURATION:PT1H
X-Robots-Tag:noindex
X-PUBLISHED-TTL:PT1H
BEGIN:VTIMEZONE
TZID:Europe/Madrid
BEGIN:DAYLIGHT
TZOFFSETFROM:+0100
TZOFFSETTO:+0200
TZNAME:CEST
DTSTART:20240331T010000
END:DAYLIGHT
BEGIN:STANDARD
TZOFFSETFROM:+0200
TZOFFSETTO:+0100
TZNAME:CET
DTSTART:20241027T010000
END:STANDARD
BEGIN:DAYLIGHT
TZOFFSETFROM:+0100
TZOFFSETTO:+0200
TZNAME:CEST
DTSTART:20250330T010000
END:DAYLIGHT
BEGIN:STANDARD
TZOFFSETFROM:+0200
TZOFFSETTO:+0100
TZNAME:CET
DTSTART:20251026T010000
END:STANDARD
BEGIN:DAYLIGHT
TZOFFSETFROM:+0100
TZOFFSETTO:+0200
TZNAME:CEST
DTSTART:20260329T010000
END:DAYLIGHT
BEGIN:STANDARD
TZOFFSETFROM:+0200
TZOFFSETTO:+0100
TZNAME:CET
DTSTART:20261025T010000
END:STANDARD
END:VTIMEZONE
BEGIN:VEVENT
DTSTART;VALUE=DATE:20250423
DTEND;VALUE=DATE:20250424
DTSTAMP:20260421T023155
CREATED:20250415T180717Z
LAST-MODIFIED:20250415T183024Z
UID:27992-1745366400-1745452799@www.empresaysociedad.org
SUMMARY:Cajamar Innova Agrotech\, convocatoria 2025
DESCRIPTION:Cajamar Innova Agrotech: Contexto\nEl sector agroalimentario está en plena transformación. La digitalización\, la sostenibilidad y la innovación tecnológica ya no son una opción: son la base de la competitividad. En este escenario\, AgroTech 2025 se presenta como una oportunidad única para impulsar soluciones disruptivas que ayuden a afrontar los grandes retos del campo\, desde la eficiencia productiva hasta el cambio climático. \n  \nQué es Cajamar Innova Agrotech\nAgroTech 2025 es una convocatoria para startups y scaleups agrotech que quieran escalar sus proyectos de la mano de expertos\, acceso a datos reales\, pilotos en campo y conexión directa con el ecosistema agroalimentario. \nEstá impulsada por la Plataforma Tierra de Cajamar y se dirige a proyectos con base tecnológica que generen impacto real en el sector. \n  \nQué buscamos\nBuscamos startups y scaleups con propuestas tecnológicas orientadas a la mejora de la sostenibilidad\, la eficiencia y la competitividad del sector agroalimentario. Proyectos con una solución validada o en fase avanzada de validación\, con vocación de crecimiento y visión global. \n  \nLíneas de especialización\nEstas son las áreas en las que queremos encontrar innovación: \n\nAgricultura de precisión y automatización\nDigitalización de procesos agrarios y ganaderos\nGestión eficiente de recursos naturales\nTecnologías para una producción sostenible y resiliente\nSoluciones basadas en datos e inteligencia artificial aplicada al agro\n\n  \nQué aportamos\nLas startups seleccionadas recibirán acompañamiento experto\, mentoring personalizado\, visibilidad\, acceso a datos reales\, posibilidad de validación en entorno real\, networking con empresas líderes y puertas abiertas a inversores y entidades tractoras del sector. \n  \nFechas clave y plazos\n\nApertura de inscripciones: marzo de 2025\nCierre de convocatoria: 23 de abril de 2025\nInicio del programa: junio de 2025\n\n  \nCómo participar\nSi tienes una solución innovadora en el ámbito agrotech y quieres llevarla al siguiente nivel\, regístrate ya. Es rápido\, sencillo y puede marcar un punto de inflexión para tu proyecto: \n+ info y registro\n  \nParticipación de Empresa y Sociedad\nLa Fundación Empresa y Sociedad es un ecosistema B2B vivo y colaborativo de más de 1.000 scaleups y 4.000 directivos empresariales que dinamiza la Fundación\, que trabaja en colaboración con empresas y entidades de referencia. \n\n¿Qué comparte Empresa y Sociedad con scaleups y empresas?\nConoce otros eventos y convocatorias del ecosistema B2B de Empresa y Sociedad\n\n 
URL:https://www.empresaysociedad.org/agenda/cajamar-innova-agrotech
LOCATION:Value Space\, Paseo de la Castellana\, 53\, 2ª planta\, Madrid\, 28046\, Spain
CATEGORIES:b2b
ATTACH;FMTTYPE=image/png:https://www.empresaysociedad.org/wp-content/uploads/2025/03/cajamar-innova-2.png
END:VEVENT
END:VCALENDAR