BEGIN:VCALENDAR
VERSION:2.0
PRODID:-//Fundación Empresa y Sociedad - ECPv6.15.20//NONSGML v1.0//EN
CALSCALE:GREGORIAN
METHOD:PUBLISH
X-ORIGINAL-URL:https://www.empresaysociedad.org
X-WR-CALDESC:Eventos para Fundación Empresa y Sociedad
REFRESH-INTERVAL;VALUE=DURATION:PT1H
X-Robots-Tag:noindex
X-PUBLISHED-TTL:PT1H
BEGIN:VTIMEZONE
TZID:Europe/Madrid
BEGIN:DAYLIGHT
TZOFFSETFROM:+0100
TZOFFSETTO:+0200
TZNAME:CEST
DTSTART:20240331T010000
END:DAYLIGHT
BEGIN:STANDARD
TZOFFSETFROM:+0200
TZOFFSETTO:+0100
TZNAME:CET
DTSTART:20241027T010000
END:STANDARD
BEGIN:DAYLIGHT
TZOFFSETFROM:+0100
TZOFFSETTO:+0200
TZNAME:CEST
DTSTART:20250330T010000
END:DAYLIGHT
BEGIN:STANDARD
TZOFFSETFROM:+0200
TZOFFSETTO:+0100
TZNAME:CET
DTSTART:20251026T010000
END:STANDARD
BEGIN:DAYLIGHT
TZOFFSETFROM:+0100
TZOFFSETTO:+0200
TZNAME:CEST
DTSTART:20260329T010000
END:DAYLIGHT
BEGIN:STANDARD
TZOFFSETFROM:+0200
TZOFFSETTO:+0100
TZNAME:CET
DTSTART:20261025T010000
END:STANDARD
END:VTIMEZONE
BEGIN:VEVENT
DTSTART;VALUE=DATE:20250929
DTEND;VALUE=DATE:20251002
DTSTAMP:20260425T172155
CREATED:20250612T133833Z
LAST-MODIFIED:20250612T134805Z
UID:28770-1759104000-1759363199@www.empresaysociedad.org
SUMMARY:Bits and Pretzels: Pitch contest europeo 2025
DESCRIPTION:  \nEl Pitch contest europeo más relevante\nLlega una oportunidad única para las scaleups españolas con ambición internacional: el European Pitch Contest 2025\, organizado por Bits and Pretzels en Múnich\, en el marco del mayor festival europeo de emprendimiento. \nDel 29 de septiembre al 1 de octubre\, más de 5.000 fundadores\, inversores y líderes del ecosistema se reunirán para aprender\, conectar y hacer negocios durante el legendario Oktoberfest. \nLa Fundación Empresa y Sociedad es Pitch Ambassador de Bits and Pretzels en España. \n  \nContenido y perfil de los speakers\nEl evento concentra a más de 1.500 inversores y venture capital europeos\, todos ellos en busca de nuevas oportunidades. Las scaleups seleccionadas podrán pitchar ante los principales decisores del ecosistema\, elevando su visibilidad y ampliando su red de contactos de forma exponencial. La final se celebrará en el escenario principal ante una audiencia internacional de alto nivel\, con reconocimiento oficial y cobertura mediática. \n  \nQuién debe asistir\nBuscamos scaleups españolas que reúnan estos requisitos: \n\nMenos de 100 empleados\nFundadas a partir de 2020\nMenos de 15M€ levantados en equity (hasta Serie A)\nMVP validado y ambición de crecer en Europa\n\nSi tu startup está lista para brillar en el mayor escenario del emprendimiento europeo\, esta es tu ocasión. \n  \nDía\, hora y sitio de la convocatoria\n\nFechas: del 29 de septiembre al 1 de octubre de 2025\nLugar: Múnich (Alemania)\, en el marco del Bits and Pretzels Founders Festival\nFecha límite de inscripción: 6 de julio de 2025\n\n  \nInscripción\nParticipa en el pitch contest más influyente de Europa y lleva tu scaleup al siguiente nivel. \nNo pierdas la oportunidad de representar al ecosistema español en el escenario más relevante. \n👉 Inscríbete aquí\n  \nSobre Empresa y Sociedad\nLa Fundación Empresa y Sociedad dinamiza un ecosistema B2B vivo y colaborativo que une a directivos empresariales y a más de 1.000 empresas jóvenes nativas digitales con soluciones disruptivas\, diseñado para abordar y superar los retos corporativos del futuro a través de la relación cliente-proveedor entre empresas y soluciones digitales seleccionadas. \nTrabaja en colaboración con scaleups\, empresas y entidades de referencia en el mundo de la innovación digital. \n\n¿Qué comparte Empresa y Sociedad con scaleups y empresas?\nConoce otros eventos y convocatorias del ecosistema B2B de Empresa y Sociedad\n\nLa Fundación Empresa y Sociedad es Pitch Ambassador de Bits and Pretzels en España. \n  \n¿Quieres estar al día?\nConoce lo último en actividad y tendencias sobre\nEcosistema B2B\, soluciones digitales disruptivas / Filantropía internacional / Longevidad\n>>>  SUSCRÍBETE  <<<
URL:https://www.empresaysociedad.org/agenda/pitch-contest-europeo
LOCATION:ICM\, International Congress Messe München\, Messe München GmbH\, Messegelände\, Munich\, 81823\, Alemania
CATEGORIES:b2b
ATTACH;FMTTYPE=image/png:https://www.empresaysociedad.org/wp-content/uploads/2025/06/251015-Bits_Pretzels-25-16_9.png
END:VEVENT
END:VCALENDAR