BEGIN:VCALENDAR
VERSION:2.0
PRODID:-//Fundación Empresa y Sociedad - ECPv6.15.20//NONSGML v1.0//EN
CALSCALE:GREGORIAN
METHOD:PUBLISH
X-WR-CALNAME:Fundación Empresa y Sociedad
X-ORIGINAL-URL:https://www.empresaysociedad.org
X-WR-CALDESC:Eventos para Fundación Empresa y Sociedad
REFRESH-INTERVAL;VALUE=DURATION:PT1H
X-Robots-Tag:noindex
X-PUBLISHED-TTL:PT1H
BEGIN:VTIMEZONE
TZID:Europe/Madrid
BEGIN:DAYLIGHT
TZOFFSETFROM:+0100
TZOFFSETTO:+0200
TZNAME:CEST
DTSTART:20250330T010000
END:DAYLIGHT
BEGIN:STANDARD
TZOFFSETFROM:+0200
TZOFFSETTO:+0100
TZNAME:CET
DTSTART:20251026T010000
END:STANDARD
BEGIN:DAYLIGHT
TZOFFSETFROM:+0100
TZOFFSETTO:+0200
TZNAME:CEST
DTSTART:20260329T010000
END:DAYLIGHT
BEGIN:STANDARD
TZOFFSETFROM:+0200
TZOFFSETTO:+0100
TZNAME:CET
DTSTART:20261025T010000
END:STANDARD
BEGIN:DAYLIGHT
TZOFFSETFROM:+0100
TZOFFSETTO:+0200
TZNAME:CEST
DTSTART:20270328T010000
END:DAYLIGHT
BEGIN:STANDARD
TZOFFSETFROM:+0200
TZOFFSETTO:+0100
TZNAME:CET
DTSTART:20271031T010000
END:STANDARD
END:VTIMEZONE
BEGIN:VEVENT
DTSTART;TZID=Europe/Madrid:20260422T090000
DTEND;TZID=Europe/Madrid:20260422T120000
DTSTAMP:20260420T102417
CREATED:20260412T092556Z
LAST-MODIFIED:20260412T093015Z
UID:31078-1776848400-1776859200@www.empresaysociedad.org
SUMMARY:Las 9 características de las empresarias exitosas que todos ellos querrían tener
DESCRIPTION:Masterclass presencial: Características de empresarias exitosas\nEn un mercado donde abundan los eventos “inspiracionales” de consumo rápido\, Tres en Forma propone lo contrario: una mañana intensa para elevar la calidad de las decisiones que más dinero\, energía y reputación se llevan en una empresa. \nNo hablamos de ideología ni de etiquetas. Hablamos de capacidades reales que cambian cómo fichas\, cómo lideras\, cuándo arriesgas y cómo sostienes la presión cuando no tienes toda la información. \nEsta masterclass parte de una idea provocadora: hay rasgos que aparecen una y otra vez en empresarias de alto rendimiento… y entenderlos a tiempo es muy valioso. \nContenido y perfil del evento\nDurante 3 horas en directo\, Jesús Alonso Gallo\, Néstor Salvador Boichenco y Rodolfo Carpintier desgranarán las claves (sin guion rígido) y abrirán espacio a conversación y preguntas. \nSaldrás con criterios aplicables para: decidir con más cabeza\, detectar decisiones “forzadas”\, leer mejor a las personas antes de incorporarlas\, ajustar tu estilo de liderazgo y reconocer fortalezas menos visibles que construyen empresas más sólidas. \nLa entrada incluye grabación final del evento y un cierre con finger food para seguir conversando con otros directivos y emprendedores. \n¿Quién debe asistir y por qué?\n\nCEOs\, founders y comités de dirección que quieren reducir errores silenciosos (los que no explotan hoy\, pero erosionan mañana).\nDirectores de RR. HH. y People que necesitan afinar contratación\, evaluación y liderazgo en entornos de alta exigencia.\nDirectivos de estrategia\, operaciones e innovación que toman decisiones con incertidumbre y quieren mejor criterio\, no más ruido.\nProfesionales que valoran la inversión inteligente: una mejora en contratación o liderazgo puede pagarte la entrada varias veces.\n\nDía y hora límite y sitio del evento\n📅 Miércoles 22 de abril de 2026\, de 09:00 a 12:00\n📍 Gran Hotel Inglés (Madrid)\, C/ de Echegaray\, 8 (Centro)\n⏳ Precio preferente hasta el 19 de abril a las 23:55 (después sube). \nInscripción\nSi quieres salir con un marco de decisión más fino (y menos ensayo–error)\, esta es tu mañana. \nPlazas limitadas: entra\, reserva y ven a hacerte las preguntas que tu empresa te está pidiendo \n👉 inscríbete ya\nMás información\nEnlace a la web de la entidad organizadora: https://tresenforma.com/ \nLa Fundación Empresa y Sociedad conecta a directivos con soluciones digitales B2B para retos concretos de negocio. \nTrabaja en colaboración con scaleups\, empresas y entidades de referencia en el mundo de la innovación digital. \nTe ayudamos a identificar soluciones digitales B2B contrastadas para Desarrollo de Negocio\, Operaciones\, Personas\, Sostenibilidad\, Compras o Innovación abierta \n\n¿Qué comparte Empresa y Sociedad con scaleups y empresas?\nConoce otros eventos y convocatorias del ecosistema B2B de Empresa y Sociedad\n\nFundación Empresa y Sociedad\, un ecosistema abierto donde ayudamos… ¡y nos ayudamos! \n>> Contacta y te ayudamos <<\n  \n¿Quieres estar al día?\n>>>  SUSCRÍBETE <<<
URL:https://www.empresaysociedad.org/agenda/empresarias-exitosas-caracteristicas
LOCATION:Gran Hotel Inglés\, Echegaray 8\, Madrid\, 28014
CATEGORIES:b2b
ATTACH;FMTTYPE=image/png:https://www.empresaysociedad.org/wp-content/uploads/2026/04/260422-PORTADA-Tres-en-Forma_Womenalia.png
END:VEVENT
BEGIN:VEVENT
DTSTART;VALUE=DATE:20260515
DTEND;VALUE=DATE:20260516
DTSTAMP:20260420T102417
CREATED:20260408T155620Z
LAST-MODIFIED:20260408T162935Z
UID:31070-1778803200-1778889599@www.empresaysociedad.org
SUMMARY:Alantra Scaleup University II: visión financiera para startups que quieren escalar de verdad
DESCRIPTION:Visión financiera para startups que quieren escalar\n¿Tu startup necesita dinero… o visión financiera? Sin lo segundo\, lo primero no llega. Y sin estrategia\, el dinero se esfuma. \nPor eso llega la segunda edición de Alantra Scaleup University\, una iniciativa formativa de alto nivel que parte del compromiso social de Alantra\, banco internacional de inversión. Un programa gratuito y exclusivo que prepara a fundadores y CEOs para dialogar de tú a tú con inversores\, proteger su equity durante su crecimiento y construir empresas con futuro. \nNo se trata de formación\, sino de una experiencia transformadora para construir una empresa que los inversores respeten. \n  \nContenido y perfil de los speakers\nLa formación está diseñada para ser práctica\, personalizada y relevante. Se articula en 7 sesiones presenciales de dos horas\, impartidas en semanas alternas por directivos de Alantra con experiencia real en inversiones\, M&A y estrategia financiera. \nTrabajarás sobre casos reales\, recibirás asesoramiento directo y aprenderás el idioma que hablan quienes toman decisiones de inversión. \n  \nQuién debe asistir\nEste programa está dirigido a CEOs y fundadores de startups que estén en fase de crecimiento y busquen no solo financiación\, sino una estrategia financiera para escalar. \nSi quieres dejar de sobrevivir y empezar a crecer con inteligencia\, este es tu lugar. \nEstá diseñado para 15 participantes comprometidos con aprovechar al máximo la experiencia. \n  \nAgenda y logística\n📅 Siete sesiones quincenales presenciales\, empezando el 27 de mayo de 2026 (con el paréntesis de agosto)\n🕙 14:00 a 16:00\n📍 Alantra\, José Ortega y Gasset 29\, Madrid \n  \nInscríbete\n¡Abierto el proceso de inscripción y selección\, hasta el 15 de mayo de 2026! \nInscríbete ya y empezamos el proceso de entrevistas en este programa de alto impacto\, cuyas plazas se ocuparán según los candidatos vayan superando el proceso de entrevistas: \n👉 Inscripción\n  \nSobre Empresa y Sociedad\nConectamos a directivos con soluciones digitales B2B para retos concretos de negocio. \nLa Fundación Empresa y Sociedad dinamiza un ecosistema B2B vivo y colaborativo que une a directivos empresariales y a más de 1.000 empresas jóvenes con soluciones digitales disruptivas\, diseñado para abordar y superar los retos corporativos del futuro a través de la relación cliente-proveedor entre empresas y soluciones digitales seleccionadas. \nTrabaja en colaboración con scaleups\, empresas y entidades de referencia en el mundo de la innovación digital. \n\n¿Qué comparte Empresa y Sociedad con scaleups y empresas?\nConoce otros eventos y convocatorias del ecosistema B2B de Empresa y Sociedad\n\n  \n¿Quieres estar al día?\n>>>  SUSCRÍBETE <<<
URL:https://www.empresaysociedad.org/agenda/vision-financiera-para-startups-alantra-scaleup-university
LOCATION:alantra\, José Ortega y Gasset 29\, Madrid\, 28006
CATEGORIES:b2b
ATTACH;FMTTYPE=image/png:https://www.empresaysociedad.org/wp-content/uploads/2026/04/Imagen-de-portada-AlantraScaleupUniversity.png
END:VEVENT
BEGIN:VEVENT
DTSTART;VALUE=DATE:20260714
DTEND;VALUE=DATE:20260715
DTSTAMP:20260420T102417
CREATED:20260323T160250Z
LAST-MODIFIED:20260326T101254Z
UID:30970-1783987200-1784073599@www.empresaysociedad.org
SUMMARY:Startup Challenge de The Gap in Between 2026 para startups de impacto
DESCRIPTION:Startup Challenge de The Gap in Between 2026\nHay convocatorias que ofrecen exposición. Otras\, premio. Y unas pocas\, además\, abren la puerta a conversaciones que pueden cambiar el rumbo de una empresa. \nEl Startup Challenge de The Gap in Between 2026 pertenece a esta última categoría: una llamada internacional para identificar startups de impacto capaces de responder con innovación a algunos de los grandes retos sociales y ambientales de nuestro tiempo. \nLa iniciativa está impulsada por Social Nest Foundation en el marco de The Gap in Between\, un evento que busca movilizar talento\, capital e innovación con propósito. \nContenido y perfil de la convocatoria\nLa convocatoria busca startups legalmente constituidas\, con MVP validado o producto ya en el mercado\, en fase early o growth\, con una propuesta técnicamente viable\, potencial comercial y un impacto positivo medible en el centro del modelo de negocio. \nEl foco en 2026 se sitúa en cinco grandes verticales: \n\nClimate Tech & Energy\, Smart Cities & Mobility\nAgriTech & Food Systems\nHealth\, Wellbeing & Care\nSocial & Economic Systems.\n\nPropuesta de valor\nHasta 50 startups seleccionadas accederán al ecosistema del evento y a espacios de networking y matchmaking. \nDe ellas\, 20 semifinalistas presentarán su pitch en Valencia ante un jurado experto formado por corporates\, inversores y líderes del ecosistema. \nY una startup ganadora recibirá un premio de 10.000 euros. \nLa participación es gratuita\, aunque los gastos de viaje\, alojamiento y manutención corren por cuenta de cada startup. \nQuién se debe presentar y por qué\nEsta convocatoria está pensada para fundadores y equipos directivos de startups innovadoras que no buscan solo financiación\, sino también validación de mercado\, acceso a inversores\, relación con corporates y visibilidad ante actores clave del ecosistema. \nSi tu startup ya ha demostrado tracción mediante pilotos\, clientes\, alianzas o casos de uso\, y puedes defender con solidez tu impacto\, diferenciación\, viabilidad y equipo\, aquí tienes un escaparate estratégico. \nEl proceso de evaluación valora precisamente impacto social y ambiental\, innovación\, factibilidad\, tracción y equipo. \nDía y hora límite y sitio para presentar candidaturas\nLa fecha límite para presentar candidaturas es el 14 de julio de 2026. La final de pitches se celebrará el 20 de octubre en Valencia. Las solicitudes deben presentarse online a través de la plataforma indicada por la organización en la página oficial del challenge. \nInscripción\nSi estás construyendo una solución con capacidad real de transformar sectores\, atraer aliados y escalar impacto\, esta es una oportunidad para poner tu startup donde ocurren las conversaciones decisivas. \nPresentar tu candidatura antes del 14 de julio de 2026\, inscríbete ya\, gana visibilidad y conecta con quienes pueden acelerar tu siguiente etapa \n👉 inscríbete ya\nMás información\nLa Fundación Empresa y Sociedad dinamiza un ecosistema B2B vivo y colaborativo que une a directivos empresariales y a más de 1.000 empresas jóvenes con soluciones digitales disruptivas\, diseñado para abordar y superar los retos corporativos del futuro a través de la relación cliente-proveedor entre empresas y soluciones digitales seleccionadas. \nTrabaja en colaboración con scaleups\, empresas y entidades de referencia en el mundo de la innovación digital. \n\n¿Qué comparte Empresa y Sociedad con scaleups y empresas?\nConoce otros eventos y convocatorias del ecosistema B2B de Empresa y Sociedad\n\nFundación Empresa y Sociedad\, un ecosistema abierto donde ayudamos… ¡y nos ayudamos! \n>> Contacta y te ayudamos <<\n  \n¿Quieres estar al día?\n>>>  SUSCRÍBETE <<<
URL:https://www.empresaysociedad.org/agenda/startup-challenge-impacto
LOCATION:online
CATEGORIES:b2b
ATTACH;FMTTYPE=image/png:https://www.empresaysociedad.org/wp-content/uploads/2026/03/16_9-Post-STARTUP-ESP.png
END:VEVENT
END:VCALENDAR